BEGIN:VCALENDAR
VERSION:2.0
PRODID:-//Vandenberg SFB - ECPv6.15.20//NONSGML v1.0//EN
CALSCALE:GREGORIAN
METHOD:PUBLISH
X-WR-CALNAME:Vandenberg SFB
X-ORIGINAL-URL:https://vandenbergfss.com
X-WR-CALDESC:Events for Vandenberg SFB
REFRESH-INTERVAL;VALUE=DURATION:PT1H
X-Robots-Tag:noindex
X-PUBLISHED-TTL:PT1H
BEGIN:VTIMEZONE
TZID:UTC
BEGIN:STANDARD
TZOFFSETFROM:+0000
TZOFFSETTO:+0000
TZNAME:UTC
DTSTART:20250101T000000
END:STANDARD
END:VTIMEZONE
BEGIN:VEVENT
DTSTART;TZID=UTC:20260606T173000
DTEND;TZID=UTC:20260606T213000
DTSTAMP:20260424T145323
CREATED:20260421T181659Z
LAST-MODIFIED:20260421T182854Z
UID:10002063-1780767000-1780781400@vandenbergfss.com
SUMMARY:GPAB / PNO
DESCRIPTION:Take a much needed break and use the Give Parents a Break / Parents Night Out offered by our Youth Center and Child Development Center. This program gives parents access to child care one night a month. Use this to get some work done\, enjoy an evening alone\, or use it as a date night to connect with your partner. Check out what other events our squadron if offering this night to find an activity that you can attend to fill your cup as a parent! \nTo utilize this service\, please contact the CDC or YC today. \nCDC: (805) 606-1555 (Children 5 and under) YC: (805) 606-2152 (Children 6+) \nBelow is the upcoming dates and deadlines: \nSaturday 06 June: Register by COB 29 May \nFriday\, 17 July: Register by COB 10 July \nFriday\, 21 August: Register by COB 14 August \nSaturday\, 19 September: Register by COB 11 September
URL:https://vandenbergfss.com/event/gpab-pno/2026-06-06/
CATEGORIES:Child Development Center,Youth Programs
ATTACH;FMTTYPE=image/png:https://vandenbergfss.com/wp-content/uploads/2026/04/Childcare.png
END:VEVENT
BEGIN:VEVENT
DTSTART;TZID=UTC:20260717T180000
DTEND;TZID=UTC:20260717T220000
DTSTAMP:20260424T145323
CREATED:20260421T181659Z
LAST-MODIFIED:20260421T182854Z
UID:10002064-1784311200-1784325600@vandenbergfss.com
SUMMARY:GPAB / PNO
DESCRIPTION:Take a much needed break and use the Give Parents a Break / Parents Night Out offered by our Youth Center and Child Development Center. This program gives parents access to child care one night a month. Use this to get some work done\, enjoy an evening alone\, or use it as a date night to connect with your partner. Check out what other events our squadron if offering this night to find an activity that you can attend to fill your cup as a parent! \nTo utilize this service\, please contact the CDC or YC today. \nCDC: (805) 606-1555 (Children 5 and under) YC: (805) 606-2152 (Children 6+) \nBelow is the upcoming dates and deadlines: \nSaturday 06 June: Register by COB 29 May \nFriday\, 17 July: Register by COB 10 July \nFriday\, 21 August: Register by COB 14 August \nSaturday\, 19 September: Register by COB 11 September
URL:https://vandenbergfss.com/event/gpab-pno/2026-07-17/
CATEGORIES:Child Development Center,Youth Programs
ATTACH;FMTTYPE=image/png:https://vandenbergfss.com/wp-content/uploads/2026/04/Childcare.png
END:VEVENT
BEGIN:VEVENT
DTSTART;TZID=UTC:20260821T180000
DTEND;TZID=UTC:20260821T220000
DTSTAMP:20260424T145323
CREATED:20260421T181659Z
LAST-MODIFIED:20260421T182854Z
UID:10002065-1787335200-1787349600@vandenbergfss.com
SUMMARY:GPAB / PNO
DESCRIPTION:Take a much needed break and use the Give Parents a Break / Parents Night Out offered by our Youth Center and Child Development Center. This program gives parents access to child care one night a month. Use this to get some work done\, enjoy an evening alone\, or use it as a date night to connect with your partner. Check out what other events our squadron if offering this night to find an activity that you can attend to fill your cup as a parent! \nTo utilize this service\, please contact the CDC or YC today. \nCDC: (805) 606-1555 (Children 5 and under) YC: (805) 606-2152 (Children 6+) \nBelow is the upcoming dates and deadlines: \nSaturday 06 June: Register by COB 29 May \nFriday\, 17 July: Register by COB 10 July \nFriday\, 21 August: Register by COB 14 August \nSaturday\, 19 September: Register by COB 11 September
URL:https://vandenbergfss.com/event/gpab-pno/2026-08-21/
CATEGORIES:Child Development Center,Youth Programs
ATTACH;FMTTYPE=image/png:https://vandenbergfss.com/wp-content/uploads/2026/04/Childcare.png
END:VEVENT
BEGIN:VEVENT
DTSTART;TZID=UTC:20260919T180000
DTEND;TZID=UTC:20260919T220000
DTSTAMP:20260424T145323
CREATED:20260421T181659Z
LAST-MODIFIED:20260421T182854Z
UID:10002066-1789840800-1789855200@vandenbergfss.com
SUMMARY:GPAB / PNO
DESCRIPTION:Take a much needed break and use the Give Parents a Break / Parents Night Out offered by our Youth Center and Child Development Center. This program gives parents access to child care one night a month. Use this to get some work done\, enjoy an evening alone\, or use it as a date night to connect with your partner. Check out what other events our squadron if offering this night to find an activity that you can attend to fill your cup as a parent! \nTo utilize this service\, please contact the CDC or YC today. \nCDC: (805) 606-1555 (Children 5 and under) YC: (805) 606-2152 (Children 6+) \nBelow is the upcoming dates and deadlines: \nSaturday 06 June: Register by COB 29 May \nFriday\, 17 July: Register by COB 10 July \nFriday\, 21 August: Register by COB 14 August \nSaturday\, 19 September: Register by COB 11 September
URL:https://vandenbergfss.com/event/gpab-pno/2026-09-19/
CATEGORIES:Child Development Center,Youth Programs
ATTACH;FMTTYPE=image/png:https://vandenbergfss.com/wp-content/uploads/2026/04/Childcare.png
END:VEVENT
END:VCALENDAR