BEGIN:VCALENDAR
VERSION:2.0
PRODID:-//Vandenberg SFB - ECPv6.15.20//NONSGML v1.0//EN
CALSCALE:GREGORIAN
METHOD:PUBLISH
X-WR-CALNAME:Vandenberg SFB
X-ORIGINAL-URL:https://vandenbergfss.com
X-WR-CALDESC:Events for Vandenberg SFB
REFRESH-INTERVAL;VALUE=DURATION:PT1H
X-Robots-Tag:noindex
X-PUBLISHED-TTL:PT1H
BEGIN:VTIMEZONE
TZID:UTC
BEGIN:STANDARD
TZOFFSETFROM:+0000
TZOFFSETTO:+0000
TZNAME:UTC
DTSTART:20250101T000000
END:STANDARD
END:VTIMEZONE
BEGIN:VEVENT
DTSTART;VALUE=DATE:20260602
DTEND;VALUE=DATE:20260607
DTSTAMP:20260424T103824
CREATED:20260421T180316Z
LAST-MODIFIED:20260421T180316Z
UID:10002057-1780358400-1780790399@vandenbergfss.com
SUMMARY:Kids Bowl Free - Surf Lanes
DESCRIPTION:Join Surf Lanes for the Kids Bowl Free special this June! \nEvery Tuesday – Friday from 1100-1600 and every Saturday from 1300-1630! \nThis excludes scheduled events and league times. Please note that this is first come\, first served. You can not reserve lanes. \nCall Surf Lanes for more information or with any questions about this offer. (805) 606-3209
URL:https://vandenbergfss.com/event/kids-bowl-free-surf-lanes/2026-06-02/
CATEGORIES:Bowling Center
ATTACH;FMTTYPE=image/png:https://vandenbergfss.com/wp-content/uploads/2024/10/Bowling-Balls.png
END:VEVENT
BEGIN:VEVENT
DTSTART;VALUE=DATE:20260609
DTEND;VALUE=DATE:20260614
DTSTAMP:20260424T103824
CREATED:20260421T180316Z
LAST-MODIFIED:20260421T180316Z
UID:10002058-1780963200-1781395199@vandenbergfss.com
SUMMARY:Kids Bowl Free - Surf Lanes
DESCRIPTION:Join Surf Lanes for the Kids Bowl Free special this June! \nEvery Tuesday – Friday from 1100-1600 and every Saturday from 1300-1630! \nThis excludes scheduled events and league times. Please note that this is first come\, first served. You can not reserve lanes. \nCall Surf Lanes for more information or with any questions about this offer. (805) 606-3209
URL:https://vandenbergfss.com/event/kids-bowl-free-surf-lanes/2026-06-09/
CATEGORIES:Bowling Center
ATTACH;FMTTYPE=image/png:https://vandenbergfss.com/wp-content/uploads/2024/10/Bowling-Balls.png
END:VEVENT
BEGIN:VEVENT
DTSTART;VALUE=DATE:20260616
DTEND;VALUE=DATE:20260621
DTSTAMP:20260424T103824
CREATED:20260421T180316Z
LAST-MODIFIED:20260421T180316Z
UID:10002059-1781568000-1781999999@vandenbergfss.com
SUMMARY:Kids Bowl Free - Surf Lanes
DESCRIPTION:Join Surf Lanes for the Kids Bowl Free special this June! \nEvery Tuesday – Friday from 1100-1600 and every Saturday from 1300-1630! \nThis excludes scheduled events and league times. Please note that this is first come\, first served. You can not reserve lanes. \nCall Surf Lanes for more information or with any questions about this offer. (805) 606-3209
URL:https://vandenbergfss.com/event/kids-bowl-free-surf-lanes/2026-06-16/
CATEGORIES:Bowling Center
ATTACH;FMTTYPE=image/png:https://vandenbergfss.com/wp-content/uploads/2024/10/Bowling-Balls.png
END:VEVENT
BEGIN:VEVENT
DTSTART;VALUE=DATE:20260623
DTEND;VALUE=DATE:20260628
DTSTAMP:20260424T103824
CREATED:20260421T180316Z
LAST-MODIFIED:20260421T180316Z
UID:10002060-1782172800-1782604799@vandenbergfss.com
SUMMARY:Kids Bowl Free - Surf Lanes
DESCRIPTION:Join Surf Lanes for the Kids Bowl Free special this June! \nEvery Tuesday – Friday from 1100-1600 and every Saturday from 1300-1630! \nThis excludes scheduled events and league times. Please note that this is first come\, first served. You can not reserve lanes. \nCall Surf Lanes for more information or with any questions about this offer. (805) 606-3209
URL:https://vandenbergfss.com/event/kids-bowl-free-surf-lanes/2026-06-23/
CATEGORIES:Bowling Center
ATTACH;FMTTYPE=image/png:https://vandenbergfss.com/wp-content/uploads/2024/10/Bowling-Balls.png
END:VEVENT
BEGIN:VEVENT
DTSTART;VALUE=DATE:20260630
DTEND;VALUE=DATE:20260705
DTSTAMP:20260424T103824
CREATED:20260421T180316Z
LAST-MODIFIED:20260421T180316Z
UID:10002061-1782777600-1783209599@vandenbergfss.com
SUMMARY:Kids Bowl Free - Surf Lanes
DESCRIPTION:Join Surf Lanes for the Kids Bowl Free special this June! \nEvery Tuesday – Friday from 1100-1600 and every Saturday from 1300-1630! \nThis excludes scheduled events and league times. Please note that this is first come\, first served. You can not reserve lanes. \nCall Surf Lanes for more information or with any questions about this offer. (805) 606-3209
URL:https://vandenbergfss.com/event/kids-bowl-free-surf-lanes/2026-06-30/
CATEGORIES:Bowling Center
ATTACH;FMTTYPE=image/png:https://vandenbergfss.com/wp-content/uploads/2024/10/Bowling-Balls.png
END:VEVENT
END:VCALENDAR