BEGIN:VCALENDAR
VERSION:2.0
PRODID:-//Vandenberg SFB - ECPv6.15.20//NONSGML v1.0//EN
CALSCALE:GREGORIAN
METHOD:PUBLISH
X-WR-CALNAME:Vandenberg SFB
X-ORIGINAL-URL:https://vandenbergfss.com
X-WR-CALDESC:Events for Vandenberg SFB
REFRESH-INTERVAL;VALUE=DURATION:PT1H
X-Robots-Tag:noindex
X-PUBLISHED-TTL:PT1H
BEGIN:VTIMEZONE
TZID:UTC
BEGIN:STANDARD
TZOFFSETFROM:+0000
TZOFFSETTO:+0000
TZNAME:UTC
DTSTART:20250101T000000
END:STANDARD
END:VTIMEZONE
BEGIN:VEVENT
DTSTART;VALUE=DATE:20260423
DTEND;VALUE=DATE:20260425
DTSTAMP:20260424T120337
CREATED:20260318T173317Z
LAST-MODIFIED:20260318T173317Z
UID:10001921-1776902400-1777075199@vandenbergfss.com
SUMMARY:Career & Credential Exploration Workshop
DESCRIPTION:We at the M&FRC would like to invite you to attend the Career and Credential Exploration Course (C2E)! This two-day program is designed to prepare military members and families for their transitional journey from military to civilian life. It covers topics such as skill transferability\, vocational training\, and certification & credentialing possibilities. The course also provides a multitude of career assessments to help find the career that interests you!” \nUpcoming C2E Class dates are 23-24 April and 25-26 June from 0800-1630 daily – Call the M&FRC at 606-0039 to Sign-up! \n 
URL:https://vandenbergfss.com/event/career-credential-exploration-workshop-2/
CATEGORIES:Military & Family Readiness Center
ATTACH;FMTTYPE=image/png:https://vandenbergfss.com/wp-content/uploads/2025/10/Untitled-design-2.png
END:VEVENT
BEGIN:VEVENT
DTSTART;TZID=UTC:20260424T080000
DTEND;TZID=UTC:20260424T120000
DTSTAMP:20260424T120337
CREATED:20260318T173425Z
LAST-MODIFIED:20260318T173425Z
UID:10001922-1777017600-1777032000@vandenbergfss.com
SUMMARY:CALTAP Seminar
DESCRIPTION:Are you preparing to separate from the military? If so\, you may have questions about your earned benefits and other services available to you as a veteran in the state of California.\nPlease join the California Transition Assistance Program (CalTAP)\, along with other service providers as we discuss the benefits available to you and your family within the state of California. This briefing is open to all service members\, veterans\, and their family members. \nUpcoming CalTAP Seminar dates are 24 April from 0800-1200 – Call the M&FRC at 606-0039 to Sign-up!
URL:https://vandenbergfss.com/event/caltap-seminar/
CATEGORIES:Military & Family Readiness Center
ATTACH;FMTTYPE=image/jpeg:https://vandenbergfss.com/wp-content/uploads/2025/09/Workshop.jpg
END:VEVENT
BEGIN:VEVENT
DTSTART;TZID=UTC:20260424T180000
DTEND;TZID=UTC:20260424T200000
DTSTAMP:20260424T120337
CREATED:20260409T143922Z
LAST-MODIFIED:20260409T143922Z
UID:10001981-1777053600-1777060800@vandenbergfss.com
SUMMARY:Magic Show
DESCRIPTION:Get ready for a magical night!\n\n\n\nJoin us for an evening of wonder and illusion with the incredible magician David Zirbel on Friday\, April 24th.\n\n\n\nFor just $5 per person\, this family-friendly event is perfect for all ages. Come early and make a night of it! The Space Bar will be serving up its delicious burger menu starting at 1600!\n\n\n\n Doors Open: 1730\n Showtime: 1800\n Ages: All ages are welcome!\n\n\n(Children under 18 must be accompanied by an adult)\n\n\n\nReady for the magic? Register now to claim your ticket to fun!\n\n\nhttps://www.memberplanet.com/s/vafbclubs/magicshow_1
URL:https://vandenbergfss.com/event/magic-show/
CATEGORIES:Club & CC
ATTACH;FMTTYPE=image/png:https://vandenbergfss.com/wp-content/uploads/2026/04/David-Zirbel-Magic.png
END:VEVENT
END:VCALENDAR